BEGIN:VCALENDAR
VERSION:2.0
PRODID:-//RacketSchule.de - ECPv6.15.15//NONSGML v1.0//EN
CALSCALE:GREGORIAN
METHOD:PUBLISH
X-WR-CALNAME:RacketSchule.de
X-ORIGINAL-URL:https://racketschule.de
X-WR-CALDESC:Veranstaltungen für RacketSchule.de
REFRESH-INTERVAL;VALUE=DURATION:PT1H
X-Robots-Tag:noindex
X-PUBLISHED-TTL:PT1H
BEGIN:VTIMEZONE
TZID:Europe/Berlin
BEGIN:DAYLIGHT
TZOFFSETFROM:+0100
TZOFFSETTO:+0200
TZNAME:CEST
DTSTART:20170326T010000
END:DAYLIGHT
BEGIN:STANDARD
TZOFFSETFROM:+0200
TZOFFSETTO:+0100
TZNAME:CET
DTSTART:20171029T010000
END:STANDARD
BEGIN:DAYLIGHT
TZOFFSETFROM:+0100
TZOFFSETTO:+0200
TZNAME:CEST
DTSTART:20180325T010000
END:DAYLIGHT
BEGIN:STANDARD
TZOFFSETFROM:+0200
TZOFFSETTO:+0100
TZNAME:CET
DTSTART:20181028T010000
END:STANDARD
BEGIN:DAYLIGHT
TZOFFSETFROM:+0100
TZOFFSETTO:+0200
TZNAME:CEST
DTSTART:20190331T010000
END:DAYLIGHT
BEGIN:STANDARD
TZOFFSETFROM:+0200
TZOFFSETTO:+0100
TZNAME:CET
DTSTART:20191027T010000
END:STANDARD
END:VTIMEZONE
BEGIN:VEVENT
DTSTART;VALUE=DATE:20181110
DTEND;VALUE=DATE:20181113
DTSTAMP:20260420T193448
CREATED:20180711T213929Z
LAST-MODIFIED:20180906T194938Z
UID:2816-1541815200-1541987999@racketschule.de
SUMMARY:Besser Badminton – Trainingswochenende mit Teamabend im kochwerk.berlin
DESCRIPTION:DAS BADMINTON CAMP\nWAS EUCH AM 10. + 11.11. ERWARTET\nDas Team der RacketSchule freut sich sehr Euch das nachfolgende Badminton-Wochenende als Gesamtpaket anbieten zu können. \n+\nEuch erwartet ein Badminton Camp der besonderen Art. Wir planen das Training mit mindestens 3 Trainern\, die Euch anhand der Themenschwerpunkte inhaltlich wie praktisch durch das Wochenende begleiten. Als Location dient das TCW SPORTS in Berlin-Weißensee\, in dessen 12-Feld-Badmintonhalle wir 4 Trainingseinheiten á 3 Stunden an zwei Tagen mit viel Spaß und Schweiß absolvieren werden. \nAls besonderes Highlight erwartet euch\, neben der engmaschigen Trainingsbetreuung\, am Samstag Abend ein gemeinsamer Teamabend im Kochwerk.Berlin. Hier können wir uns von Profiköchen kulinarisch verwöhnen lassen. Wer mag kann den Profis über die Schulter gucken\, sich Tipps geben lassen oder sogar mit kochen. \nDie Teilnahmegebühr beträgt EUR 199\,- pro Person. \nMehr erfahrenZEITPLAN\nWir haben folgenden Zeitplan für das Camp vorgesehen. \nSAMSTAG (10.11.2018)\n10 – 13 Uhr\nTrainingseinheit 1 \n13 – 14.30 Uhr\nMittagspause \n14.30 – 17.30 Uhr\nTrainingseinheit 2 \n17.30 – 18.30 Uhr\nPause\, Duschen\, Sauna\, etc. \nab 18.30 Uhr\nHIGHLIGHT: Teamabend im Kochwerk.Berlin \nSONNTAG (11.11.2018)\n10 – 13 Uhr\nTrainingseinheit 3 \n13 – 14.30 Uhr\nMittagspause \n14.30 – 17.30 Uhr\nTrainingseinheit 4 \nab 17.30 Uhr\nDuschen\, Sauna\, etc. \nnur 199 EUR pro Person\n+ ZU GOOGLE KALENDER HINZUFÜGEN+ ZU ICAL KALENDER (APPLE) HINZUFÜGENZUR ANMELDUNGIMPRESSIONEN BISHERIGER VERANSTALTUNGEN\nKlicken Sie auf ein Bild um die Diashow zu starten \nmehr über die Trainer der RacketSchule erfahrenÜBER UNS\nRacketSchule Sven Schüler\n \nNatürlich wollt ihr wissen mit wem ihr es zu tun habt: Ich bin Sven Schüler und ich habe mein Hobby zum Beruf gemacht. Deshalb trägt die RacketSchule auch meinen Namen. Badminton begleitet mich vom Aufstehen bis zum Schlafen gehen – und das seit über 40 Jahren. \nMein Trainerteam ist sorgfältig ausgewählt und bestens ausgebildet. Alle profitieren durch regelmäßiges Training mit mir und halten ihr Wissen rund um die Sportart Badminton auf dem neuesten Stand. \nNoel und Dennis sind ehemalige Landeskader- und Bundeskaderathleten. Dirk ist C-Trainer und wie ich Shuttle Time Tutor der BWF. Noel ist von der BWF als Shuttle Time Teacher zertifiziert und Norddeutscher Meister 2015. \nWas uns alle vereint\, ist die Liebe zum besten Sport der Welt. \nUnsere sportliche Mission ist es\, mit anderen zu teilen\, was uns an diesem Sport fasziniert. Vom Anfänger bis zum ambitionierten Liga-Spieler – wir als lizensierte Trainer und erfahrende Spieler stellen uns bei Theorie und Praxis auf jeden Kunden individuell ein. \nSVENGründer und HeadcoachDeutscher Badminton-Verband e.V. A-Lizenz\nShuttle Time Tutor der Badminton World Federation (BWF) \n0177 547 547 4\nsven@racketschule.de \nmehr über Sven erfahren×Was Du schon immer über Sven wissen wolltest\nIch bin A-Trainer des Deutschen Badminton-Verbandes und Shuttle Time Tutor der Badminton World Federation (BWF). \nIch kann elf Jahre Bundesliga vorweisen\, bin geprüfter Schiedsrichter und war drei Jahre als Dozent an der Freien Universität Berlin in der Sportlehrerausbildung „Badminton“ tätig. \nIch habe 24 Jahre im Landesleistungszentrum des Badminton-Verbandes Berlin trainiert und zahlreiche Erfolge generiert. Mehr als ein Jahrzehnt war ich Verbandstrainer im Badminton-Verband Berlin-Brandenburg und verantwortlich für die Altersstufen U11\, U13\, U15\, U17\, U19 und Erwachsene. Als DBV-Honorartrainer begleitete ich die U15 Nationalmannschaft bei internationalen Wettkämpfen und Länderspielen\, sowie zudem die U17 und U19 Nationalmannschaften bei Länderspielen gegen die Dänischen Jugendteams. \nAm Schul- und Leistungssportzentrum in Berlin-Weißensee (SLZB)\, einer Eliteschule des Sports mit besten Lern- und Trainingsbedingungen\, führte ich über viele Jahre das Schulsport begleitende Badminton-Training der erfolgreichsten Berliner Kaderspieler durch. Teilbereiche des Leistungssporttrainings waren unter anderem das badmintonspezifische Krafttraining\, Beweglichkeitstraining\, Koordinationstraining sowie Ernährungsberatung der Leistungskader. Wesentlichen Einzug in die alltägliche Trainingsarbeit fand auch das mentale Coaching. Dieses ging über die sportartspezifischen Erfordernisse hinaus\, um den Bedürfnissen der heranwachsenden Athletinnen und Athleten als Mensch gerecht zu werden. \nCloseDIRKTrainerDeutscher Badminton-Verband e.V. C-Lizenz\nShuttle Time Tutor der Badminton World Federation (BWF) \n0173 724 072 6\ndirk@racketschule.de×Was Du unbedingt über Dirk wissen solltest\nDirk ist ein ehemaliger deutscher Fußballtorhüter. Er spielte während seiner Profikarriere beim Karlsruher SC und dem FC Bayern München\, wurde dreimal zum Welttorhüter des Jahres gewählt und erhielt 2002 als erster und bisher einziger Torhüter den Goldenen Ball für den besten Spieler der Weltmeisterschaft. Seit 2008 arbeitet er als Fußballexperte für das ZDF. Von 2000 bis 2004 war er Mannschaftskapitän der deutschen Nationalmannschaft und wurde 2002 mit ihr Vizeweltmeister. \n    Mit dem Laden des Videos akzeptieren Sie die Datenschutzerklärung von YouTube.Mehr erfahren  Video laden   YouTube immer entsperren    CloseNOELTrainerShuttle Time Teacher der Badminton World Federation (BWF)\nNorddeutscher Meister U22 2015 \n0151 218 407 38\nnoel@racketschule.de \n×Alles was Du über Noel wissen solltest\nNoel ist ein ehemaliger deutscher Fußballtorhüter. Er spielte während seiner Profikarriere beim Karlsruher SC und dem FC Bayern München\, wurde dreimal zum Welttorhüter des Jahres gewählt und erhielt 2002 als erster und bisher einziger Torhüter den Goldenen Ball für den besten Spieler der Weltmeisterschaft. Seit 2008 arbeitet er als Fußballexperte für das ZDF. Von 2000 bis 2004 war er Mannschaftskapitän der deutschen Nationalmannschaft und wurde 2002 mit ihr Vizeweltmeister. \n    Mit dem Laden des Videos akzeptieren Sie die Datenschutzerklärung von YouTube.Mehr erfahren  Video laden   YouTube immer entsperren    CloseMALTETrainerehemals Platz 1 des European Badminton Circuit im Jungendoppel\nDeutscher Vizemeister Jungendoppel 2017 \n0177 636 33 73‬\nmalte@racketschule.de \n×Alles was Du über Malte wissen solltest\nNoel ist ein ehemaliger deutscher Fußballtorhüter. Er spielte während seiner Profikarriere beim Karlsruher SC und dem FC Bayern München\, wurde dreimal zum Welttorhüter des Jahres gewählt und erhielt 2002 als erster und bisher einziger Torhüter den Goldenen Ball für den besten Spieler der Weltmeisterschaft. Seit 2008 arbeitet er als Fußballexperte für das ZDF. Von 2000 bis 2004 war er Mannschaftskapitän der deutschen Nationalmannschaft und wurde 2002 mit ihr Vizeweltmeister. \n    Mit dem Laden des Videos akzeptieren Sie die Datenschutzerklärung von YouTube.Mehr erfahren  Video laden   YouTube immer entsperren    CloseTEAMABEND\nIM KOCHWERK.BERLIN\nIm Kochwerk.Berlin können wir uns in entspannter und sportlicher Atmosphäre kulinarisch verwöhnen lassen.\nFreut Euch auf die Zubereitung von kulinarischen Erlebnissen mit ausgewählten frischen Zutaten\, während der Kochwerk.Berlin- Chefkoch Dir mit Tipps und Tricks zur Seite steht. In geselliger Runde kochen wir ein Menü\, das jedes Gourmetherz höher schlagen lässt. Es erwartet Euch: \n\nEin besonderes Menü\nWeißwein\, Rotwein\, Prosecco\, Weißbier\, Heineken Pils und Alkoholfreie Getränke inklusive\nEin stilvolles Ambiente im Kochwerk und auf unserer Terrasse\nzum Abschluss eine Kaffeespezialität\n\nDie Dauer jedes genussreichen Kochkurses beträgt rund 4 Stunden. \nDie Teilnahme ist für alle Teilnehmer des Badminton-Camps inklusive. \nmehr Informationen zum Kochwerk.Berlin erhaltet Ihr hier: \nwww.kochwerk.berlin \nZUR ANMELDUNGÜBRIGENS\n„Besser werden geht immer. Egal\, wo Du jetzt stehst\, wir machen mit Dir den nächsten Schritt. Dabei gehen wir respektvoll mit Deinen Ressourcen um und bieten ein leistungsgerechtes an Deinen Interessen und Fähigkeiten ausgerichtetes Training.Wir haben Spaß daran\, Dir mit Geduld\, Witz\, Charme und Freude unseren Lieblingssport in Theorie und Praxis zu vermitteln.”\nSven Schüler\nGründer & Inhaber der RacketSchule \nMEINUNGEN UNSERER KUNDEN\nLesen Sie\, was unsere Kunden über uns sagen.\n“Vorsicht! Kann süchtig machen! Hatte vor 2 Jahren einen Gutschein für Einzeltraining bei Sven zum Geburtstag bekommen. Zur Saisonvorbereitung. Aber\, wie jeder weiß\, nach der Saison ist vor der Saison. Ich will jedenfalls nicht mehr ohne.” \nMONIKA\, RacketSchule Kundin \n“Hallo Sven\, möchte mich bei Deinem Team und bei Dir für die schönen sportlichen Tage in Neuruppin bedanken. Das hat viel Spaß gemacht und die Gäste waren alle sehr motiviert und gesellig.Das gesamte Paket hat perfekt gestimmt. Gerne immer wieder…” \nKAY\, Teilnehmer Badminton Camp Neuruppin 2018 \nZUR ANMELDUNGANFAHRT\nTCW SPORTS / KOCHWERK.BERLIN\nRoelckestraße 105\, 13088 Berlin \n					\n					Anfahrt mit der BVG×Anfahrt zum TCW SPORTS mit der BVGWir setzen auf Frames zur Anzeige von externen Inhalten. Wir sind leider nicht in der Lage\, andere Möglichkeiten zu nutzen. Sie können die eingebettete Funktion hier nutzen: Fahrinfo der BVG  \nClosezur Navigation mit GoogleMapsHÄUFIG GESTELLTE FRAGEN.\nWichtige Informationen auf einen Blick\nWie viel Geld kostet die Teilnahme?\nDie Teilnahmegebühr beträgt 199\,- Euro inkl. MwSt. \nWelche Kosten sind in der Teilnahmegebühr inbegriffen?\nIn der Teilnahmegebühr sind enthalten: \n\nKosten für Trainer an 2 Tagen\nBälle zum Zuspielen von Ballmaschinen (Multifeeding)\nCourtmiete an 2 Tagen zu den Trainingszeiten\nkostenfreie Nutzung der Sauna\nMittagssnack in der Gastro des TCW SPORTS am Sa+So\nTeamabend im Kochwerk.Berlin inkl. Profikoch\, ein besonderes Menü und Getränke (Weißwein\, Rotwein\, Prosecco\, Weißbier\, Heineken Pils und Alkoholfreie Getränke)\n\nMuss ich in einem Verein spielen\, um teilnehmen zu können?\nNein. Egal ob Freizeit- oder Vereinsspieler\, bei uns ist jeder willkommen. \nWie erfolgt die Anfahrt zum TCW SPORTS?Die Anreise zum TCW SPORTS lässt sich mit den Öffentlichen Verkehrsmitteln der BVG realisieren. Fußläufig entfernt (circa 4 min) befindet sich der Pasedagplatz\, Haltestelle der Tram-Linie 12 und diversen Buslinien. Diese erreicht man aus dem Prenzlauer Berg bereits nach 12min Fahrzeit. Für Autofahrer befindet sich direkt auf dem Gelände der TCW-eigene Parkplatz für über 100 Fahrzeuge und € 1 Nutzungsgebühr / Tag. Die Anreise erfolgt auf eigene Kosten.Gibt es kostengünstige Parkmöglichkeiten?\nJa. Für Autofahrer befindet sich direkt auf dem Gelände der TCW-eigene Parkplatz für über 100 Fahrzeuge und € 1 Nutzungsgebühr / Tag. \nWie kann ich mich anmelden?\nDeine Anmeldung richtest Du am besten per E-Mail an: sven@racketschule.de \nDie Anmeldung erfolgt nur schriftlich\, formlos\, verbindlich. Sie wird nach Bestätigung gültig. \nIch habe eine Allergie?\nSofern Du eine Allergie haben solltest (z.B. gegen Hülsenfrüchte\, Laktose\, …)\, so setze Dich bitte vorab mit uns in Verbindung. Wir finden gemeinsam mit dem Profikoch eine Lösung\, damit wir zusammen einen tollen Abend bei leckerem Essen verbringen können. \nMelde Dich am besten per E-Mail an: sven@racketschule.de \nNoch Fragen? Gerne!\nKONTAKTIERE UNS\n\n\n  \n\n\n\n\n \n\n \n\n \n\n \nMit Setzen des Häkchens in dem Kontrollkästchen erklären Sie sich mit der Erhebung und Speicherung der von Ihnen angegeben Daten zum Zwecke der Kontaktaufnahme und Beantwortung Ihrer Anfrage gemäß unserer Datenschutzerklärung (einsehbar unter https://racketschule.de/datenschutz/ ) einverstanden. Ihre Einwilligung können Sie jederzeit einfach per E-Mail an info@racketschule.de widerrufen.\n \n\n ×\n\n\nMELDE DICH JETZT ANWIR FREUEN UNS AUF DEINE TEILNAHMEEine Veranstaltung von\nAnmeldungen\nDeine Anmeldung richtest Du am besten per E-Mail an: sven@racketschule.de \nDie Anmeldung erfolgt nur schriftlich\, formlos\, verbindlich. Sie wird nach Bestätigung gültig. \nFür telefonische Rückfragen wähle die\nTel: 0177 547 547 4 \nIn glücklicher Kooperation mit\nAnmeldung (Link)
URL:https://racketschule.de/event/besser-badminton-trainingswochenende-mit-teamabend-im-kochwerk-berlin/
LOCATION:TCW SPORTS\, Roelckestrasse 105\, Berlin - Weißensee\, 13088\, Deutschland
CATEGORIES:Camps,Event
ATTACH;FMTTYPE=image/jpeg:https://racketschule.de/wp-content/uploads/DSC07124.jpg
ORGANIZER;CN="RacketSchule Sven Sch%C3%BCler":MAILTO:info@racketschule.de
END:VEVENT
END:VCALENDAR